BEGIN:VCALENDAR
VERSION:2.0
PRODID:-//mediventis - ECPv6.15.16//NONSGML v1.0//EN
CALSCALE:GREGORIAN
METHOD:PUBLISH
X-WR-CALNAME:mediventis
X-ORIGINAL-URL:https://www.mediventis.eu/en
X-WR-CALDESC:Events for mediventis
REFRESH-INTERVAL;VALUE=DURATION:PT1H
X-Robots-Tag:noindex
X-PUBLISHED-TTL:PT1H
BEGIN:VTIMEZONE
TZID:Europe/Vienna
BEGIN:DAYLIGHT
TZOFFSETFROM:+0100
TZOFFSETTO:+0200
TZNAME:CEST
DTSTART:20250330T010000
END:DAYLIGHT
BEGIN:STANDARD
TZOFFSETFROM:+0200
TZOFFSETTO:+0100
TZNAME:CET
DTSTART:20251026T010000
END:STANDARD
BEGIN:DAYLIGHT
TZOFFSETFROM:+0100
TZOFFSETTO:+0200
TZNAME:CEST
DTSTART:20260329T010000
END:DAYLIGHT
BEGIN:STANDARD
TZOFFSETFROM:+0200
TZOFFSETTO:+0100
TZNAME:CET
DTSTART:20261025T010000
END:STANDARD
BEGIN:DAYLIGHT
TZOFFSETFROM:+0100
TZOFFSETTO:+0200
TZNAME:CEST
DTSTART:20270328T010000
END:DAYLIGHT
BEGIN:STANDARD
TZOFFSETFROM:+0200
TZOFFSETTO:+0100
TZNAME:CET
DTSTART:20271031T010000
END:STANDARD
END:VTIMEZONE
BEGIN:VEVENT
DTSTART;TZID=Europe/Vienna:20260313T090000
DTEND;TZID=Europe/Vienna:20260313T160000
DTSTAMP:20260421T151243
CREATED:20260208T150942Z
LAST-MODIFIED:20260209T084524Z
UID:248-1773392400-1773417600@www.mediventis.eu
SUMMARY:OH-Tourniquet Einsteiger Kurs
DESCRIPTION:Erfahren Sie Schritt für Schritt\, wie Sie das MediVentis Erste-Hilfe-Tourniquet sicher und effektiv selbst anwenden können.
URL:https://www.mediventis.eu/en/event/oh-tourniquet-einsteiger-kurs/
LOCATION:MediVentis Technology GmbH\, Weilhartstraße 32\, Ostermiething\, 5121\, Austria
ORGANIZER;CN="MediVentis Technology GmbH":MAILTO:office@mediventis.eu
END:VEVENT
END:VCALENDAR